BEGIN:VCALENDAR
VERSION:2.0
PRODID:-//Rubén Goy - ECPv6.15.20//NONSGML v1.0//EN
CALSCALE:GREGORIAN
METHOD:PUBLISH
X-WR-CALNAME:Rubén Goy
X-ORIGINAL-URL:https://rubengoy.com
X-WR-CALDESC:Eventos para Rubén Goy
REFRESH-INTERVAL;VALUE=DURATION:PT1H
X-Robots-Tag:noindex
X-PUBLISHED-TTL:PT1H
BEGIN:VTIMEZONE
TZID:UTC
BEGIN:STANDARD
TZOFFSETFROM:+0000
TZOFFSETTO:+0000
TZNAME:UTC
DTSTART:20250101T000000
END:STANDARD
END:VTIMEZONE
BEGIN:VEVENT
DTSTART;TZID=UTC:20260425T170000
DTEND;TZID=UTC:20260425T210000
DTSTAMP:20260421T083921
CREATED:20260322T220219Z
LAST-MODIFIED:20260322T231514Z
UID:6028-1777136400-1777150800@rubengoy.com
SUMMARY:Películas que sanan - Cinefórum sobre Vivir una Espiritualidad Encarnada
DESCRIPTION:
URL:https://rubengoy.com/evento/peliculas-que-sanan-cineforum-sobre-vivir-una-espiritualidad-encarnada/
END:VEVENT
BEGIN:VEVENT
DTSTART;TZID=UTC:20260511T200000
DTEND;TZID=UTC:20260511T220000
DTSTAMP:20260421T083921
CREATED:20260414T162009Z
LAST-MODIFIED:20260417T121106Z
UID:6054-1778529600-1778536800@rubengoy.com
SUMMARY:Encuentro de Presencia -  ¿Intuición o trauma?
DESCRIPTION:
URL:https://rubengoy.com/evento/encuentro-de-presencia-intuicion-o-trauma/
ATTACH;FMTTYPE=image/png:https://rubengoy.com/wp-content/uploads/2026/04/Encuentros-de-presencia-caratulas-web-1.png
END:VEVENT
END:VCALENDAR